BEGIN:VCALENDAR
VERSION:2.0
PRODID:-//CCAPP Conferences - ECPv6.15.20//NONSGML v1.0//EN
CALSCALE:GREGORIAN
METHOD:PUBLISH
X-WR-CALNAME:CCAPP Conferences
X-ORIGINAL-URL:https://ccappconferences.com
X-WR-CALDESC:Events for CCAPP Conferences
REFRESH-INTERVAL;VALUE=DURATION:PT1H
X-Robots-Tag:noindex
X-PUBLISHED-TTL:PT1H
BEGIN:VTIMEZONE
TZID:America/Los_Angeles
BEGIN:DAYLIGHT
TZOFFSETFROM:-0800
TZOFFSETTO:-0700
TZNAME:PDT
DTSTART:20220313T100000
END:DAYLIGHT
BEGIN:STANDARD
TZOFFSETFROM:-0700
TZOFFSETTO:-0800
TZNAME:PST
DTSTART:20221106T090000
END:STANDARD
BEGIN:DAYLIGHT
TZOFFSETFROM:-0800
TZOFFSETTO:-0700
TZNAME:PDT
DTSTART:20230312T100000
END:DAYLIGHT
BEGIN:STANDARD
TZOFFSETFROM:-0700
TZOFFSETTO:-0800
TZNAME:PST
DTSTART:20231105T090000
END:STANDARD
BEGIN:DAYLIGHT
TZOFFSETFROM:-0800
TZOFFSETTO:-0700
TZNAME:PDT
DTSTART:20240310T100000
END:DAYLIGHT
BEGIN:STANDARD
TZOFFSETFROM:-0700
TZOFFSETTO:-0800
TZNAME:PST
DTSTART:20241103T090000
END:STANDARD
END:VTIMEZONE
BEGIN:VEVENT
DTSTART;TZID=America/Los_Angeles:20230606T100000
DTEND;TZID=America/Los_Angeles:20230606T110000
DTSTAMP:20260418T055040
CREATED:20230306T201041Z
LAST-MODIFIED:20230306T201041Z
UID:802575-1686045600-1686049200@ccappconferences.com
SUMMARY:Webinar: A Glimpse Behind Walls: Responding to Sex Trafficking Post Incarceration
DESCRIPTION:There are valuable benefits when offering gender-responsive services to formerly incarcerated women. Get an overview of how addiction and sex work impacts women differently in this webinar. \nFree to attend\, and 1 CE provided to those who attend live.
URL:https://ccappconferences.com/event/webinar-a-glimpse-behind-walls-responding-to-sex-trafficking-post-incarceration/
LOCATION:online\, United States
CATEGORIES:Webinars
ORGANIZER;CN="National Behavioral Health Association of Providers":MAILTO:info@nbhap.org
END:VEVENT
BEGIN:VEVENT
DTSTART;TZID=America/Los_Angeles:20230621T100000
DTEND;TZID=America/Los_Angeles:20230621T113000
DTSTAMP:20260418T055040
CREATED:20230420T202814Z
LAST-MODIFIED:20230420T202814Z
UID:802850-1687341600-1687347000@ccappconferences.com
SUMMARY:Webinar: Webinar: The Brain of Addiction: For Loved Ones
DESCRIPTION:Dr. Bob Weathers\, addiction educator and recovery coach\, shares over forty years of clinical experience and research on navigating recovery from addiction. He addresses\, in plain English\, key questions that most often arise in working with the loved ones of individuals seeking recovery in this CE-based webinar. \nFree to attend\, and 1.5 CEs provided to those who attend live.
URL:https://ccappconferences.com/event/webinar-the-brain-of-addiction-for-loved-ones/
LOCATION:online\, United States
CATEGORIES:Webinars
ORGANIZER;CN="National Behavioral Health Association of Providers":MAILTO:info@nbhap.org
END:VEVENT
END:VCALENDAR