BEGIN:VCALENDAR
VERSION:2.0
PRODID:-//CCAPP Conferences - ECPv6.15.20//NONSGML v1.0//EN
CALSCALE:GREGORIAN
METHOD:PUBLISH
X-WR-CALNAME:CCAPP Conferences
X-ORIGINAL-URL:https://ccappconferences.com
X-WR-CALDESC:Events for CCAPP Conferences
REFRESH-INTERVAL;VALUE=DURATION:PT1H
X-Robots-Tag:noindex
X-PUBLISHED-TTL:PT1H
BEGIN:VTIMEZONE
TZID:America/Los_Angeles
BEGIN:DAYLIGHT
TZOFFSETFROM:-0800
TZOFFSETTO:-0700
TZNAME:PDT
DTSTART:20220313T100000
END:DAYLIGHT
BEGIN:STANDARD
TZOFFSETFROM:-0700
TZOFFSETTO:-0800
TZNAME:PST
DTSTART:20221106T090000
END:STANDARD
BEGIN:DAYLIGHT
TZOFFSETFROM:-0800
TZOFFSETTO:-0700
TZNAME:PDT
DTSTART:20230312T100000
END:DAYLIGHT
BEGIN:STANDARD
TZOFFSETFROM:-0700
TZOFFSETTO:-0800
TZNAME:PST
DTSTART:20231105T090000
END:STANDARD
BEGIN:DAYLIGHT
TZOFFSETFROM:-0800
TZOFFSETTO:-0700
TZNAME:PDT
DTSTART:20240310T100000
END:DAYLIGHT
BEGIN:STANDARD
TZOFFSETFROM:-0700
TZOFFSETTO:-0800
TZNAME:PST
DTSTART:20241103T090000
END:STANDARD
END:VTIMEZONE
BEGIN:VEVENT
DTSTART;TZID=America/Los_Angeles:20231129T100000
DTEND;TZID=America/Los_Angeles:20231129T110000
DTSTAMP:20260418T125226
CREATED:20230814T154847Z
LAST-MODIFIED:20230814T154847Z
UID:803283-1701252000-1701255600@ccappconferences.com
SUMMARY:Webinar: Serious Business: Therapeutic Use of Humor
DESCRIPTION:The therapeutic effectiveness of humor is not a newly conceived idea\, with references dating back to ancient Greece and the Bible (Proverbs 17:22)\, to the real-life Patch Adams and continuing through today with recovery-focused comedians\, the most notable of whom is Mark Lundholm. Well-timed humor can also be effective in the overall development of the therapeutic relationship and has a positive effect on learning\, with some examples in this webinar itself and allowing for the participants to offer their own perspectives. Free CE if you attend live! \nFree to attend\, and eligible for 1 CE.
URL:https://ccappconferences.com/event/webinar-serious-business-therapeutic-use-of-humor/
LOCATION:online\, United States
CATEGORIES:Webinars
ORGANIZER;CN="National Behavioral Health Association of Providers":MAILTO:info@nbhap.org
END:VEVENT
END:VCALENDAR