BEGIN:VCALENDAR
VERSION:2.0
PRODID:-//CCAPP Conferences - ECPv6.15.20//NONSGML v1.0//EN
CALSCALE:GREGORIAN
METHOD:PUBLISH
X-WR-CALNAME:CCAPP Conferences
X-ORIGINAL-URL:https://ccappconferences.com
X-WR-CALDESC:Events for CCAPP Conferences
REFRESH-INTERVAL;VALUE=DURATION:PT1H
X-Robots-Tag:noindex
X-PUBLISHED-TTL:PT1H
BEGIN:VTIMEZONE
TZID:America/Los_Angeles
BEGIN:DAYLIGHT
TZOFFSETFROM:-0800
TZOFFSETTO:-0700
TZNAME:PDT
DTSTART:20220313T100000
END:DAYLIGHT
BEGIN:STANDARD
TZOFFSETFROM:-0700
TZOFFSETTO:-0800
TZNAME:PST
DTSTART:20221106T090000
END:STANDARD
BEGIN:DAYLIGHT
TZOFFSETFROM:-0800
TZOFFSETTO:-0700
TZNAME:PDT
DTSTART:20230312T100000
END:DAYLIGHT
BEGIN:STANDARD
TZOFFSETFROM:-0700
TZOFFSETTO:-0800
TZNAME:PST
DTSTART:20231105T090000
END:STANDARD
BEGIN:DAYLIGHT
TZOFFSETFROM:-0800
TZOFFSETTO:-0700
TZNAME:PDT
DTSTART:20240310T100000
END:DAYLIGHT
BEGIN:STANDARD
TZOFFSETFROM:-0700
TZOFFSETTO:-0800
TZNAME:PST
DTSTART:20241103T090000
END:STANDARD
END:VTIMEZONE
BEGIN:VEVENT
DTSTART;TZID=America/Los_Angeles:20231115T100000
DTEND;TZID=America/Los_Angeles:20231115T110000
DTSTAMP:20260420T024217
CREATED:20230823T194238Z
LAST-MODIFIED:20230823T194238Z
UID:803339-1700042400-1700046000@ccappconferences.com
SUMMARY:Webinar: Fall 2023 Advocacy Update
DESCRIPTION:Andrew Kessler gives an update as to what NBHAP has been up to as well as general advocacy information for the behavioral health and addiction treatment industry.  \nFree to attend\, and eligible for 1 CE.
URL:https://ccappconferences.com/event/webinar-fall-2023-advocacy-update/
LOCATION:online\, United States
CATEGORIES:Webinars
ORGANIZER;CN="National Behavioral Health Association of Providers":MAILTO:info@nbhap.org
END:VEVENT
END:VCALENDAR