BEGIN:VCALENDAR
VERSION:2.0
PRODID:-//CCAPP Conferences - ECPv6.15.20//NONSGML v1.0//EN
CALSCALE:GREGORIAN
METHOD:PUBLISH
X-ORIGINAL-URL:https://ccappconferences.com
X-WR-CALDESC:Events for CCAPP Conferences
REFRESH-INTERVAL;VALUE=DURATION:PT1H
X-Robots-Tag:noindex
X-PUBLISHED-TTL:PT1H
BEGIN:VTIMEZONE
TZID:America/Los_Angeles
BEGIN:DAYLIGHT
TZOFFSETFROM:-0800
TZOFFSETTO:-0700
TZNAME:PDT
DTSTART:20220313T100000
END:DAYLIGHT
BEGIN:STANDARD
TZOFFSETFROM:-0700
TZOFFSETTO:-0800
TZNAME:PST
DTSTART:20221106T090000
END:STANDARD
BEGIN:DAYLIGHT
TZOFFSETFROM:-0800
TZOFFSETTO:-0700
TZNAME:PDT
DTSTART:20230312T100000
END:DAYLIGHT
BEGIN:STANDARD
TZOFFSETFROM:-0700
TZOFFSETTO:-0800
TZNAME:PST
DTSTART:20231105T090000
END:STANDARD
BEGIN:DAYLIGHT
TZOFFSETFROM:-0800
TZOFFSETTO:-0700
TZNAME:PDT
DTSTART:20240310T100000
END:DAYLIGHT
BEGIN:STANDARD
TZOFFSETFROM:-0700
TZOFFSETTO:-0800
TZNAME:PST
DTSTART:20241103T090000
END:STANDARD
END:VTIMEZONE
BEGIN:VEVENT
DTSTART;VALUE=DATE:20230906
DTEND;VALUE=DATE:20230907
DTSTAMP:20260420T060827
CREATED:20230711T182554Z
LAST-MODIFIED:20230711T182554Z
UID:803124-1693958400-1694044799@ccappconferences.com
SUMMARY:31st Annual Recovery Happens
DESCRIPTION:Join us for a day of advocacy and awareness. \nA recovery walk\, a 12-Step meeting\, a pancake breakfast\, a rally\, a wide range of speakers\, and more. Increase awareness and understanding of mental health and substance use disorders and celebrate who recover.
URL:https://ccappconferences.com/event/31st-annual-recovery-happens/
LOCATION:California State Capitol\, 1315 10th St\, Sacramento\, California\, 95814\, United States
CATEGORIES:Conferences
ORGANIZER;CN="CCAPP":MAILTO:admin@ccapp.us
END:VEVENT
END:VCALENDAR